BEGIN:VCALENDAR
VERSION:2.0
PRODID:-//Banning Vereniging - ECPv6.15.20//NONSGML v1.0//EN
CALSCALE:GREGORIAN
METHOD:PUBLISH
X-WR-CALNAME:Banning Vereniging
X-ORIGINAL-URL:https://www.banningvereniging.nl
X-WR-CALDESC:Evenementen voor Banning Vereniging
REFRESH-INTERVAL;VALUE=DURATION:PT1H
X-Robots-Tag:noindex
X-PUBLISHED-TTL:PT1H
BEGIN:VTIMEZONE
TZID:UTC
BEGIN:STANDARD
TZOFFSETFROM:+0000
TZOFFSETTO:+0000
TZNAME:UTC
DTSTART:20230101T000000
END:STANDARD
END:VTIMEZONE
BEGIN:VEVENT
DTSTART;TZID=UTC:20240221T190000
DTEND;TZID=UTC:20240221T223000
DTSTAMP:20260421T100753
CREATED:20240129T105356Z
LAST-MODIFIED:20240129T105356Z
UID:2350-1708542000-1708554600@www.banningvereniging.nl
SUMMARY:Banning Lezing 2024
DESCRIPTION:Op woensdag 21 februari 2022 spreekt GL-PvdA fractievoorzitter Frans Timmermans in de Rode Hoed te Amsterdam de vierde Banning Lezing uit. We nodigen iedereen van harte uit om hierbij aanwezig te zijn. Aanmelden kan via: https://forms.gle/aMX4uTRnkx8pNxFp8. Voor meer informatie of vragen kunt u contact opnemen met info@banningvereniging.nl. \nVoorafgaand aan de lezing reikt PvdA-Europarlementariër Mohammed Chahim als juryvoorzitter de Banning Prijs 2024 uit. Uitnodiging aan jonge denkers was dit jaar hun eigen perspectief op de veelbesproken vraag naar klimaatrechtvaardigheid in 2000 woorden uiteen te zetten.
URL:https://www.banningvereniging.nl/event/banning-lezing-2024/
LOCATION:de Rode Hoed\, Keizersgracht 102\, Amsterdam\, Nederland
ATTACH;FMTTYPE=image/png:https://www.banningvereniging.nl/wp-content/uploads/2023/04/logo-banning-vereniging.png
ORGANIZER;CN="Banning Vereniging":MAILTO:info@banningvereniging.nl
END:VEVENT
END:VCALENDAR